BEGIN:VCALENDAR
VERSION:2.0
PRODID:-//The Leakey Foundation - ECPv6.15.20//NONSGML v1.0//EN
CALSCALE:GREGORIAN
METHOD:PUBLISH
X-WR-CALNAME:The Leakey Foundation
X-ORIGINAL-URL:https://leakeyfoundation.org
X-WR-CALDESC:Events for The Leakey Foundation
REFRESH-INTERVAL;VALUE=DURATION:PT1H
X-Robots-Tag:noindex
X-PUBLISHED-TTL:PT1H
BEGIN:VTIMEZONE
TZID:America/Los_Angeles
BEGIN:DAYLIGHT
TZOFFSETFROM:-0800
TZOFFSETTO:-0700
TZNAME:PDT
DTSTART:20230312T100000
END:DAYLIGHT
BEGIN:STANDARD
TZOFFSETFROM:-0700
TZOFFSETTO:-0800
TZNAME:PST
DTSTART:20231105T090000
END:STANDARD
BEGIN:DAYLIGHT
TZOFFSETFROM:-0800
TZOFFSETTO:-0700
TZNAME:PDT
DTSTART:20240310T100000
END:DAYLIGHT
BEGIN:STANDARD
TZOFFSETFROM:-0700
TZOFFSETTO:-0800
TZNAME:PST
DTSTART:20241103T090000
END:STANDARD
BEGIN:DAYLIGHT
TZOFFSETFROM:-0800
TZOFFSETTO:-0700
TZNAME:PDT
DTSTART:20250309T100000
END:DAYLIGHT
BEGIN:STANDARD
TZOFFSETFROM:-0700
TZOFFSETTO:-0800
TZNAME:PST
DTSTART:20251102T090000
END:STANDARD
END:VTIMEZONE
BEGIN:VEVENT
DTSTART;TZID=America/Los_Angeles:20240914T100000
DTEND;TZID=America/Los_Angeles:20240914T113000
DTSTAMP:20260420T104518
CREATED:20240615T010315Z
LAST-MODIFIED:20240914T025612Z
UID:10000430-1726308000-1726313400@leakeyfoundation.org
SUMMARY:Lucy and the Taung Child: A Century of Science
DESCRIPTION:A century ago\, a small skull discovered at a South African quarry challenged what we thought we knew about human origins. Fifty years later\, the discovery of Lucy in Ethiopia further transformed our understanding of how we became human.  \n\n\n\nJoin experts from Ethiopia\, South Africa\, and North America for a free online event that examines a hundred years of challenges and progress in paleoanthropology. \n\n\n\nThe speakers will explore the historical context and lasting significance of the Lucy and Taung Child discoveries. They will discuss what these fossils meant at the time and how they impacted the African scientific community. Looking to the future\, they will address the vital need for funding African scholars and strengthening African scientific collaboration. \n\n\n\nThis program is presented in partnership with the Institute of Human Origins (IHO) and the Palaeontological Scientific Trust (PAST). It is made possible by generous support from Camilla and George Smith\, the Ann and Gordon Getty Foundation\, and the Joan and Arnold Travis Education Fund. \n\n\n\nRegister for free\n\n\n\n\n\n\n\nModerator and speaker bios\n\n\n\n\n\n\n\n\n\n\n\n\n\n\n\nProgram Moderator \n\n\n\nDr. Lauren Schroeder is a paleoanthropologist who studies how hominin skulls and jaws have changed and evolved over time. She is an associate professor at the University of Toronto Mississauga.  \n\n\n\nDr. Shroeder is a Leakey Foundation grantee and Baldwin Fellow from South Africa who earned her PhD at the University of Cape Town. She has been involved in both the Malapa (Australopithecus sediba) and Rising Star (Homo naledi) projects as part of the research team studying the fossil hominin discoveries from these sites. Her current research includes collaborative projects on the evolution\, integration\, and variability of the primate skeleton. \n\n\n\n\n\n\n\n\n\n\n\n\n\n\n\n\n\n\n\n\n\nDr. Yohannes Haile-Selassie is Virginia M. Ullman Professor of Natural History and the Environment in the School of Human Evolution and Social Change and Director of the Institute of Human Origins at ASU. He is a multiple-time Leakey Foundation grantee who has made numerous important fossil discoveries\, including the “cranium of a 3.8-million-year-old Australopithecus anamensis. Dr. Haile-Selassie leads an international multidisciplinary team that conducts fieldwork in the Afar Region of Ethiopia\, 30 miles north of Hadar\, where the Lucy fossil was discovered. His research interest is understanding the paleobiology and paleoecology of early human ancestors based on the fossil record. \n\n\n\n\n\n\n\n\n\n\n\n\n\n\n\n\n\n\n\n\n\nDr. Dipuo Kgotleng is Director of the Palaeo-Research Institute at the University of Johannesburg\, which she helped establish. Dr. Kgotleng has vast experience in South Africa’s heritage policy development and management. When Taung Skull World Heritage Site and Vredefort Dome World Heritage were inscribed into the World Heritage Register in 2005\, she was appointed as the first archaeologist for both sites. She was the lead project manager for the establishment of South Africa’s Strategy for the Palaeosciences which is the blueprint for for the management of the discipline in South Africa. She is also a champion for the transformation of the palaeosciences and was one of the first people to call for a transformation charter in archaeology in South Africa.  \n\n\n\n\n\n\n\n\n\n\n\n\n\n\n\n\n\n\n\n\n\nDr. Denise Su is an associate professor in the School of Human Evolution and Social Change and research associate in the Institute of Human Origins. She joins ASU from the Cleveland Museum of Natural History where she was chief academic engagement officer and curator\, integrating research with public outreach and education and leading initiatives to increase access to and diversify participation in science. Her research focuses on the paleoecology of early hominins and explores environments in which our early ancestors lived in order to provide insight into how environmental factors shaped the trajectory of hominin evolution. \n\n\n\n\n\n\n\n\n\n\n\n\n\n\n\n\n\n\n\n\n\nDr. Mirriam Tawane is a core business executive for the National Heritage Council of South Africa. She is a paleoanthropologist who earned her PhD at the University of the Witwatersrand.  \n\n\n\nDr. Tawane served as curator of Plio-Pleistocene paleontology  at the Ditsong National Museum of Natural History. She has been involved in science outreach for the past ten years\, participating in projects to teach learners and the general community about their heritage with respect to paleosciences\, including Heritage Day celebrations at Taung\, where the famous Taung Child was found.
URL:https://leakeyfoundation.org/event/lucy-and-the-taung-child-a-century-of-science/
LOCATION:https://leakeyfoundation.org/event/lucy-and-the-taung-child-a-century-of-science/
CATEGORIES:Speaker Series
ATTACH;FMTTYPE=image/png:https://leakeyfoundation.org/wp-content/uploads/2024/06/2024-square-featured-image-century-of-science-witz-credit.png
END:VEVENT
BEGIN:VEVENT
DTSTART;TZID=America/Los_Angeles:20240919T110000
DTEND;TZID=America/Los_Angeles:20240919T113000
DTSTAMP:20260420T104518
CREATED:20240621T232426Z
LAST-MODIFIED:20240930T204347Z
UID:10000495-1726743600-1726745400@leakeyfoundation.org
SUMMARY:Lunch Break Science
DESCRIPTION:Lunch Break Science is a monthly livestreamed web series featuring fascinating short talks on human evolution\, engaging interviews\, and lively Q&A with Leakey Foundation scientists. Each episode digs deeper into the latest human origins discoveries\, with topics like Neanderthals\, chimpanzee behavior\, and more! Even better\, you can interact with researchers during the show and have your questions answered on air.
URL:https://leakeyfoundation.org/event/lunch-break-science-5/2024-09-19/
LOCATION:CA
ATTACH;FMTTYPE=image/webp:https://leakeyfoundation.org/wp-content/uploads/2024/06/lbs-logo-square-2_1080-square.webp
END:VEVENT
BEGIN:VEVENT
DTSTART;TZID=America/Los_Angeles:20240919T110000
DTEND;TZID=America/Los_Angeles:20240919T113000
DTSTAMP:20260420T104518
CREATED:20240930T223251Z
LAST-MODIFIED:20240930T230532Z
UID:10000555-1726743600-1726745400@leakeyfoundation.org
SUMMARY:Lunch Break Science
DESCRIPTION:Explore the latest human evolution discoveries with Lunch Break Science! This monthly livestreamed web series feeds your brain with bite-sized knowledge\, serving up fresh science that’s perfect for your midday break. Join The Leakey Foundation on the third Thursday of every month for engaging short talks on cutting-edge human evolution research\, insightful interviews with scientists\, and interactive Q&A sessions where your questions are answered by an expert. \n\n\n\n\nShow details\n\n\n\n\nTime: 11:00 am Pacific Time / 2:00 pm Eastern Time / 6:00 pm GMT\n\n\n\nFrequency: Monthly\, on the third Thursday\n\n\n\nDuration: 30-40 minutes \n\n\n\n\n\nTopics to explore\n\n\n\nFeast on a wide range of subjects\, including: \n\n\n\n\nMisconceptions about human evolution\n\n\n\nNeanderthals and their interactions with early humans\n\n\n\nChimpanzee behavior and why studying chimps helps us understand ourselves\n\n\n\nHow and when early humans started to use fire\n\n\n\nAncient DNA \n\n\n\nInsights into aging \n\n\n\nAnd much more!\n\n\n\n\n\nHow to watch Lunch Break Science\n\n\n\n\nWatch the livestream or explore past episodes on our website.\n\n\n\nCheck out past episodes or watch the monthly livestream on The Leakey Foundation’s YouTube channel.\n\n\n\nFollow us on Facebook and watch on Facebook Live.\n\n\n\n\n\nYou’re invited! Here’s why you should join us for Lunch Break Science\n\n\n\n\nStay informed: Learn about the latest discoveries in human evolution research.\n\n\n\nMeet the experts: Engage directly with Leakey Foundation scientists from around the world.\n\n\n\nLearn something new: Ask questions and have them answered live during the show.\n\n\n\nFeed your brain: Lunch Break Science makes complex topics easy to digest.\n\n\n\nFlexible viewing: Join us live or catch up on past episodes at your convenience.\n\n\n\n\nThe Leakey Foundation\n\n\n\nThe Leakey Foundation has been supporting human origins research and sharing discoveries through educational programming for over 50 years. Our mission is to increase scientific knowledge\, education\, and public understanding of human origins\, evolution\, behavior\, and survival. Lunch Break Science is one of the ways we’re making science accessible and engaging for all. \n\n\n\nThanks to our Lunch Break Science sponsors\n\n\n\nLunch Break Science is made possible by support from the Ann and Gordon Getty Foundation\, Camilla and George Smith\, the Joan and Arnold Travis Education Fund\, and donors like you!
URL:https://leakeyfoundation.org/event/lunch-break-science-6/2024-09-19/
LOCATION:CA
ATTACH;FMTTYPE=image/webp:https://leakeyfoundation.org/wp-content/uploads/2024/06/lbs-logo-square-2_1080-square.webp
END:VEVENT
END:VCALENDAR