BEGIN:VCALENDAR
VERSION:2.0
PRODID:-//The Leakey Foundation - ECPv6.15.20//NONSGML v1.0//EN
CALSCALE:GREGORIAN
METHOD:PUBLISH
X-ORIGINAL-URL:https://leakeyfoundation.org
X-WR-CALDESC:Events for The Leakey Foundation
REFRESH-INTERVAL;VALUE=DURATION:PT1H
X-Robots-Tag:noindex
X-PUBLISHED-TTL:PT1H
BEGIN:VTIMEZONE
TZID:America/Los_Angeles
BEGIN:DAYLIGHT
TZOFFSETFROM:-0800
TZOFFSETTO:-0700
TZNAME:PDT
DTSTART:20140309T100000
END:DAYLIGHT
BEGIN:STANDARD
TZOFFSETFROM:-0700
TZOFFSETTO:-0800
TZNAME:PST
DTSTART:20141102T090000
END:STANDARD
BEGIN:DAYLIGHT
TZOFFSETFROM:-0800
TZOFFSETTO:-0700
TZNAME:PDT
DTSTART:20150308T100000
END:DAYLIGHT
BEGIN:STANDARD
TZOFFSETFROM:-0700
TZOFFSETTO:-0800
TZNAME:PST
DTSTART:20151101T090000
END:STANDARD
BEGIN:DAYLIGHT
TZOFFSETFROM:-0800
TZOFFSETTO:-0700
TZNAME:PDT
DTSTART:20160313T100000
END:DAYLIGHT
BEGIN:STANDARD
TZOFFSETFROM:-0700
TZOFFSETTO:-0800
TZNAME:PST
DTSTART:20161106T090000
END:STANDARD
BEGIN:DAYLIGHT
TZOFFSETFROM:-0800
TZOFFSETTO:-0700
TZNAME:PDT
DTSTART:20170312T100000
END:DAYLIGHT
BEGIN:STANDARD
TZOFFSETFROM:-0700
TZOFFSETTO:-0800
TZNAME:PST
DTSTART:20171105T090000
END:STANDARD
END:VTIMEZONE
BEGIN:VEVENT
DTSTART;TZID=America/Los_Angeles:20160119T180000
DTEND;TZID=America/Los_Angeles:20160119T203000
DTSTAMP:20260422T091348
CREATED:20151202T210931Z
LAST-MODIFIED:20151202T210931Z
UID:10000258-1453226400-1453235400@leakeyfoundation.org
SUMMARY:Why Do We Laugh?
DESCRIPTION:Join cognitive psychologist Greg Bryant and scientist turned comedian Tim Lee for an evening of laughter. Half comedy show and half science talk\, this month’s Being Human explores the science behind why we laugh.
URL:https://leakeyfoundation.org/event/why-do-we-laugh-2-2/
LOCATION:Public Works\, 161 Erie Street\, San Francisco\, CA\, 94103\, United States
CATEGORIES:Being Human
ATTACH;FMTTYPE=image/jpeg:https://leakeyfoundation.org/wp-content/uploads/2015/12/Greg_Bryant1.jpg
END:VEVENT
BEGIN:VEVENT
DTSTART;TZID=America/Los_Angeles:20160119T180000
DTEND;TZID=America/Los_Angeles:20160119T203000
DTSTAMP:20260422T091348
CREATED:20151202T210931Z
LAST-MODIFIED:20160318T222135Z
UID:10000257-1453226400-1453235400@leakeyfoundation.org
SUMMARY:Why Do We Laugh?
DESCRIPTION:Join cognitive psychologist Greg Bryant and scientist turned comedian Tim Lee for an evening of laughter. Half comedy show and half science talk\, this month’s Being Human explores the science behind why we laugh.
URL:https://leakeyfoundation.org/event/why-do-we-laugh-2/
LOCATION:Public Works\, 161 Erie Street\, San Francisco\, CA\, 94103\, United States
CATEGORIES:Being Human
ATTACH;FMTTYPE=image/jpeg:https://leakeyfoundation.org/wp-content/uploads/2015/12/Greg_Bryant1.jpg
END:VEVENT
BEGIN:VEVENT
DTSTART;TZID=America/Los_Angeles:20151117T180000
DTEND;TZID=America/Los_Angeles:20151117T203000
DTSTAMP:20260422T091348
CREATED:20151203T011040Z
LAST-MODIFIED:20151203T011040Z
UID:10000274-1447783200-1447792200@leakeyfoundation.org
SUMMARY:Our Inner Scientist
DESCRIPTION:Join Alison Gopnik for an evening exploring how understanding babies’ and young children’s ability to acquire abstract knowledge has transformed how we view human nature itself. \nHuman beings have a longer childhood than any other animal\, and during this childhood we are helpless and dependent. This long period of helplessness is responsible for our uniquely human consciousness and our ability to learn and imagine. Our long protected childhood gives us the opportunity to learn and play\, which helps us plan and work as adults\, and special features of our young brains give us remarkable learning abilities. In fact\, even the youngest babies have learning abilities that are more powerful than those of the smartest scientists and most advanced computers.
URL:https://leakeyfoundation.org/event/our-inner-scientist-2/
LOCATION:Public Works\, 161 Erie Street\, San Francisco\, CA\, 94103\, United States
CATEGORIES:Being Human
ATTACH;FMTTYPE=image/jpeg:https://leakeyfoundation.org/wp-content/uploads/2015/12/static1.squarespace.jpg
END:VEVENT
BEGIN:VEVENT
DTSTART;TZID=America/Los_Angeles:20151117T180000
DTEND;TZID=America/Los_Angeles:20151117T203000
DTSTAMP:20260422T091349
CREATED:20151203T011040Z
LAST-MODIFIED:20160318T221911Z
UID:10000273-1447783200-1447792200@leakeyfoundation.org
SUMMARY:Our Inner Scientist
DESCRIPTION:Join Alison Gopnik for an evening exploring how understanding babies’ and young children’s ability to acquire abstract knowledge has transformed how we view human nature itself. \nHuman beings have a longer childhood than any other animal\, and during this childhood we are helpless and dependent. This long period of helplessness is responsible for our uniquely human consciousness and our ability to learn and imagine. Our long protected childhood gives us the opportunity to learn and play\, which helps us plan and work as adults\, and special features of our young brains give us remarkable learning abilities. In fact\, even the youngest babies have learning abilities that are more powerful than those of the smartest scientists and most advanced computers.
URL:https://leakeyfoundation.org/event/our-inner-scientist/
LOCATION:Public Works\, 161 Erie Street\, San Francisco\, CA\, 94103\, United States
CATEGORIES:Being Human
ATTACH;FMTTYPE=image/jpeg:https://leakeyfoundation.org/wp-content/uploads/2015/12/static1.squarespace.jpg
END:VEVENT
BEGIN:VEVENT
DTSTART;TZID=America/Los_Angeles:20151026T180000
DTEND;TZID=America/Los_Angeles:20151026T203000
DTSTAMP:20260422T091349
CREATED:20151203T011714Z
LAST-MODIFIED:20151203T011714Z
UID:10000276-1445882400-1445891400@leakeyfoundation.org
SUMMARY:Being Human with Robert Sapolsky
DESCRIPTION:What makes us human? Join world renowned neuroscientist Robert Sapolsky for an evening exploring one of the most fundamental questions about our existence. \nBeing Human mixes short talks from great minds with fun hands-on experiments\, drinks\, conversation\, and storytelling. Each month we’ll investigate different aspects of our evolution\, our behavior\, and the human experience. This month\, Stanford biologist and neuroscientist Robert Sapolsky offers a fascinating and funny look at human evolution and behavior. \n[iframe id=”https://www.youtube.com/embed/TnlZwfD-GiU” autoplay=”no”]
URL:https://leakeyfoundation.org/event/being-human-2/
LOCATION:Public Works\, 161 Erie Street\, San Francisco\, CA\, 94103\, United States
CATEGORIES:Being Human
ATTACH;FMTTYPE=image/jpeg:https://leakeyfoundation.org/wp-content/uploads/2015/12/static1.squarespace-11.jpg
END:VEVENT
BEGIN:VEVENT
DTSTART;TZID=America/Los_Angeles:20151026T180000
DTEND;TZID=America/Los_Angeles:20151026T203000
DTSTAMP:20260422T091349
CREATED:20151203T011714Z
LAST-MODIFIED:20160711T232644Z
UID:10000275-1445882400-1445891400@leakeyfoundation.org
SUMMARY:Being Human with Robert Sapolsky
DESCRIPTION:What makes us human? Join world renowned neuroscientist Robert Sapolsky for an evening exploring one of the most fundamental questions about our existence. \nBeing Human mixes short talks from great minds with fun hands-on experiments\, drinks\, conversation\, and storytelling. Each month we’ll investigate different aspects of our evolution\, our behavior\, and the human experience. This month\, Stanford biologist and neuroscientist Robert Sapolsky offers a fascinating and funny look at human evolution and behavior. \n[iframe id=”https://www.youtube.com/embed/TnlZwfD-GiU” autoplay=”no”]
URL:https://leakeyfoundation.org/event/being-human/
LOCATION:Public Works\, 161 Erie Street\, San Francisco\, CA\, 94103\, United States
CATEGORIES:Being Human
ATTACH;FMTTYPE=image/jpeg:https://leakeyfoundation.org/wp-content/uploads/2015/12/static1.squarespace-11.jpg
END:VEVENT
END:VCALENDAR