BEGIN:VCALENDAR
VERSION:2.0
PRODID:-//The Leakey Foundation - ECPv6.15.20//NONSGML v1.0//EN
CALSCALE:GREGORIAN
METHOD:PUBLISH
X-ORIGINAL-URL:https://leakeyfoundation.org
X-WR-CALDESC:Events for The Leakey Foundation
REFRESH-INTERVAL;VALUE=DURATION:PT1H
X-Robots-Tag:noindex
X-PUBLISHED-TTL:PT1H
BEGIN:VTIMEZONE
TZID:America/New_York
BEGIN:DAYLIGHT
TZOFFSETFROM:-0500
TZOFFSETTO:-0400
TZNAME:EDT
DTSTART:20240310T070000
END:DAYLIGHT
BEGIN:STANDARD
TZOFFSETFROM:-0400
TZOFFSETTO:-0500
TZNAME:EST
DTSTART:20241103T060000
END:STANDARD
BEGIN:DAYLIGHT
TZOFFSETFROM:-0500
TZOFFSETTO:-0400
TZNAME:EDT
DTSTART:20250309T070000
END:DAYLIGHT
BEGIN:STANDARD
TZOFFSETFROM:-0400
TZOFFSETTO:-0500
TZNAME:EST
DTSTART:20251102T060000
END:STANDARD
BEGIN:DAYLIGHT
TZOFFSETFROM:-0500
TZOFFSETTO:-0400
TZNAME:EDT
DTSTART:20260308T070000
END:DAYLIGHT
BEGIN:STANDARD
TZOFFSETFROM:-0400
TZOFFSETTO:-0500
TZNAME:EST
DTSTART:20261101T060000
END:STANDARD
END:VTIMEZONE
BEGIN:VEVENT
DTSTART;TZID=America/New_York:20250306T083000
DTEND;TZID=America/New_York:20250306T173000
DTSTAMP:20260421T075827
CREATED:20250305T005428Z
LAST-MODIFIED:20250305T005429Z
UID:10000559-1741249800-1741282200@leakeyfoundation.org
SUMMARY:Fathers and Fatherhood: From Molecules to Modern Families
DESCRIPTION:Location: OnlineFree\, registration not required \n\n\n\n\n\n\n\n\n\nJoin a panel of experts for a day-long exploration of fatherhood\, livestreamed from Yale University\n\n\n\nHow do bonds between fathers and offspring relate to bonds between romantic partners? What aspects of the father-infant attachment are uniquely human?  \n\n\n\nThese questions have been the subject of much research from historical\, biological\, and evolutionary perspectives. We know that committed partnerships contribute to human happiness and well-being and that they also sustain the physical and mental health of its members. \n\n\n\nStill\, despite the benefits of stable\, enduring social relationships\, there is much to learn about the expression of father-infant bonds in humans and non-human primates. In fact\, committed paternal care remains a paradox among mammals\, humans included. \n\n\n\nSession schedule\n\n\n\n9:00 – 10:30 am Eastern  – Welcome and Panel #1Moderator: Linda Mayes (Director\, Child Study Center\, Yale)Scientists: Carla Stover\, Lauren O’Connell\, and Lee Gettler1:00 -2:00 pm Eastern – Panel #2Moderator: Rushda MajeedScientists: Natasha Cabrera\, Alison Bell\, and James K. Rilling3:30 – 4:30 pm Eastern – Panel #3Moderator: Michael FeigelsonScientists: Sarah B. Hrdy\, Ruth Feldman\, and Eduardo Fernandez-Duque \n\n\n\nLearn more at the Yale Fatherhood Conference website. \n\n\n\n\n\nSponsors\n\n\n\nThis program is lecture is sponsored by the Yale Department of Anthropology\, Council on Latin American & Iberian Studies of the Yale MacMillan Center; Yale Child Study Center and Yale Franke Program in Science and the Humanities.  \n\n\n\nThe Leakey Foundation is an educational collaborator and our participation is generously sponsored by the Ann and Gordon Getty Foundation\, Camilla and George Smith\, and the Joan and Arnold Travis Education Fund.
URL:https://leakeyfoundation.org/event/fathers-and-fatherhood-from-molecules-to-modern-families/
LOCATION:https://www.youtube.com/watch?v=y9fL5efCU4s
CATEGORIES:Symposia,Virtual
ATTACH;FMTTYPE=image/jpeg:https://leakeyfoundation.org/wp-content/uploads/2025/03/16-Dec-2021.jpg
END:VEVENT
END:VCALENDAR